BEGIN:VCALENDAR
PRODID:-//Google Inc//Google Calendar 70.9054//EN
VERSION:2.0
CALSCALE:GREGORIAN
METHOD:REQUEST
BEGIN:VTIMEZONE
TZID:America/Los_Angeles
X-LIC-LOCATION:America/Los_Angeles
BEGIN:DAYLIGHT
TZOFFSETFROM:-0800
TZOFFSETTO:-0700
TZNAME:PDT
DTSTART:19700308T020000
RRULE:FREQ=YEARLY;BYMONTH=3;BYDAY=2SU
END:DAYLIGHT
BEGIN:STANDARD
TZOFFSETFROM:-0700
TZOFFSETTO:-0800
TZNAME:PST
DTSTART:19701101T020000
RRULE:FREQ=YEARLY;BYMONTH=11;BYDAY=1SU
END:STANDARD
END:VTIMEZONE
BEGIN:VEVENT
DTSTART;TZID=America/Los_Angeles:20260723T080000
DTEND;TZID=America/Los_Angeles:20260723T120000
DTSTAMP:20260410T220658Z
ORGANIZER;CN=Jackie Rodriguez:mailto:jackies@ucr.edu
UID:3rh9sifap7mc9t93pid641ctrj@google.com
ATTENDEE;CUTYPE=INDIVIDUAL;ROLE=REQ-PARTICIPANT;PARTSTAT=NEEDS-ACTION;RSVP=
 TRUE;CN=shcc-announcements@lists.ucr.edu;X-NUM-GUESTS=0:mailto:shcc-announc
 ements@lists.ucr.edu
ATTENDEE;CUTYPE=INDIVIDUAL;ROLE=REQ-PARTICIPANT;PARTSTAT=ACCEPTED;RSVP=TRUE
 ;CN=Jackie Rodriguez;X-NUM-GUESTS=0:mailto:jackies@ucr.edu
X-MICROSOFT-CDO-OWNERAPPTID:-1260038102
CREATED:20260410T220648Z
DESCRIPTION:
LAST-MODIFIED:20260410T220649Z
LOCATION:
SEQUENCE:0
STATUS:CONFIRMED
SUMMARY:SHCC Closure: EPIC/Staff Training
TRANSP:OPAQUE
BEGIN:VALARM
ACTION:DISPLAY
DESCRIPTION:This is an event reminder
TRIGGER:-P0DT0H10M0S
END:VALARM
END:VEVENT
END:VCALENDAR
